BEGIN:VCALENDAR
VERSION:2.0
PRODID:-//Anaheim Hills Golf Club - Anaheim, CA - ECPv6.15.20//NONSGML v1.0//EN
CALSCALE:GREGORIAN
METHOD:PUBLISH
X-WR-CALNAME:Anaheim Hills Golf Club - Anaheim, CA
X-ORIGINAL-URL:https://anaheimhillsgc.com
X-WR-CALDESC:Events for Anaheim Hills Golf Club - Anaheim, CA
REFRESH-INTERVAL;VALUE=DURATION:PT1H
X-Robots-Tag:noindex
X-PUBLISHED-TTL:PT1H
BEGIN:VTIMEZONE
TZID:UTC
BEGIN:STANDARD
TZOFFSETFROM:+0000
TZOFFSETTO:+0000
TZNAME:UTC
DTSTART:20250101T000000
END:STANDARD
END:VTIMEZONE
BEGIN:VEVENT
DTSTART;TZID=UTC:20260417T173000
DTEND;TZID=UTC:20260417T203000
DTSTAMP:20260423T082830
CREATED:20260402T203834Z
LAST-MODIFIED:20260402T203835Z
UID:10001291-1776447000-1776457800@anaheimhillsgc.com
SUMMARY:Live Music - Sonoramics
DESCRIPTION:Sonoramics are known for their versatile sound and dynamic performances\, they effortlessly blend classic rock\, acoustic\, and hits from the 70s\, 80s\, and 90s. Every show is a unique “experiment” in musical interaction\, promising an engaging and unpredictable experience you won’t want to miss.
URL:https://anaheimhillsgc.com/event/live-music-sonoramics-3/
CATEGORIES:Events,Food & Drink Events
END:VEVENT
END:VCALENDAR